BEGIN:VCALENDAR
PRODID:Solar Promotion International GmbH
CALSCALE:GREGORIAN
BEGIN:VEVENT
DTSTAMP:20260423T055539Z
DTSTART:20260421T180000
DTEND:20260421T190000
SUMMARY:Visión\, innovación y nuevos talentos para la industria solar
TZID:Europe/Berlin
LAST-MODIFIED:20260422T223059Z
DESCRIPTION:Webinar sobre nuevos talentos\, innovación y transición energética justa en la industria solar en México.
SEQUENCE:1776923739
URL:https://www.intersolar.mx/archivo-de-webinars/vision-innovacion-y-nuevos-talentos
LOCATION:Intersolar Mexico\, 
UID:958a8133-de8e-4dbf-a2ad-bcd4d9045382
END:VEVENT
END:VCALENDAR
