BEGIN:VCALENDAR
PRODID:Solar Promotion International GmbH
CALSCALE:GREGORIAN
BEGIN:VEVENT
DTSTAMP:20260419T134048Z
DTSTART:20250708T180000
DTEND:20250708T190000
SUMMARY:Minería más sustentable y eficiente con energía solar térmica
TZID:Europe/Berlin
LAST-MODIFIED:20250721T160117Z
DESCRIPTION:Conoce cómo la energía solar térmica mejora la eficiencia en procesos mineros. Flemming Jorgensen presentará casos reales\, beneficios y claves para ampliar su uso en México. Ideal para quienes buscan soluciones energéticas confiables.
SEQUENCE:1776606048
URL:https://www.intersolar.mx/webinars/mineria-mas-sustentable-y-eficiente-con-energia-solar-termica
LOCATION:Intersolar Mexico\, 
UID:f1da6f62-1c1a-4493-90bb-42a1bab1e4ef
END:VEVENT
END:VCALENDAR
