BEGIN:VCALENDAR
PRODID:Solar Promotion International GmbH
CALSCALE:GREGORIAN
BEGIN:VEVENT
DTSTAMP:20260422T094422Z
DTSTART:20250708T180000
DTEND:20250708T190000
SUMMARY:More sustainable and efficient mining with solar thermal
TZID:Europe/Berlin
LAST-MODIFIED:20250710T145126Z
DESCRIPTION:Learn how solar thermal energy boosts efficiency in mining operations. Flemming Jorgensen will share reference projects\, key benefits and what is needed to expand its use in Mexico. Perfect for those seeking reliable energy solutions.
SEQUENCE:1776851062
URL:https://www.intersolar.mx/webinars/more-sustainable-and-efficient-mining-with-solar-thermal
LOCATION:Intersolar Mexico\, 
UID:d2dc1b91-1844-4b82-8f09-bee98ef674b6
END:VEVENT
END:VCALENDAR
