BEGIN:VCALENDAR
PRODID:Solar Promotion International GmbH
CALSCALE:GREGORIAN
BEGIN:VEVENT
DTSTAMP:20260423T100456Z
DTSTART:20250626T170000
DTEND:20250626T180000
SUMMARY:Mercado aquecido: o impacto das soluções termossolares na América Latina
TZID:Europe/Berlin
LAST-MODIFIED:20250701T092104Z
DESCRIPTION:A energia termossolar ganha força na América Latina\, com Brasil e México na liderança.
SEQUENCE:1776938696
URL:https://www.intersolar.mx/webinarios/o-impacto-das-solucoes-termossolares-na-america-latina
LOCATION:Intersolar Mexico\, 
UID:6703d4f3-f811-4f6e-aaf5-541a908b3a03
END:VEVENT
END:VCALENDAR
