BEGIN:VCALENDAR
PRODID:Solar Promotion International GmbH
CALSCALE:GREGORIAN
BEGIN:VEVENT
DTSTAMP:20260419T134041Z
DTSTART:20250626T170000
DTEND:20250626T180000
SUMMARY:En auge: Cómo las Soluciones de Energía Solar Térmica Están Transformando América Latina
TZID:Europe/Berlin
LAST-MODIFIED:20250701T092012Z
DESCRIPTION:La energía solar térmica está ganando impulso en toda América Latina\, con Brasil y México a la cabeza.
SEQUENCE:1776606041
URL:https://www.intersolar.mx/webinars/como-las-soluciones-de-energia-solar-termica-estan-transformando-america-latina
LOCATION:Intersolar Mexico\, 
UID:83428304-8b0b-4870-a083-369e404cd71b
END:VEVENT
END:VCALENDAR
