BEGIN:VCALENDAR
PRODID:Solar Promotion International GmbH
CALSCALE:GREGORIAN
BEGIN:VEVENT
DTSTAMP:20260419T134116Z
DTSTART:20250610T180000
DTEND:20250610T190000
SUMMARY:Agrovoltaica: habilitando soluciones sociales y ambientales desde la energía solar
TZID:Europe/Berlin
LAST-MODIFIED:20250611T141908Z
DESCRIPTION:Descubre cómo la agrovoltaica une agricultura y energía solar. Valeria Amezcua presentará beneficios\, proyectos en México y claves para su desarrollo.
SEQUENCE:1776606076
URL:https://www.intersolar.mx/webinars/agrovoltaica-habilitando-soluciones-sociales-y-ambientales
LOCATION:Intersolar Mexico\, 
UID:e07e3975-db40-4ea8-9d4b-dff9b8311c8e
END:VEVENT
END:VCALENDAR
