BEGIN:VCALENDAR
PRODID:Solar Promotion International GmbH
CALSCALE:GREGORIAN
BEGIN:VEVENT
DTSTAMP:20260419T134054Z
DTSTART:20250520T180000
DTEND:20250520T190000
SUMMARY:Reducción de costos en el sector servicios con solar térmica
TZID:Europe/Berlin
LAST-MODIFIED:20250523T074044Z
DESCRIPTION:Descubre cómo la energía solar térmica puede reducir el uso de gas en hoteles\, hospitales\, centros deportivos y más. Aprende de un experto los principales beneficios de esta tecnología para ahorrar y ser más sostenible.
SEQUENCE:1776606054
URL:https://www.intersolar.mx/webinars/reduccion-costos-solar-termica
LOCATION:Intersolar Mexico\, 
UID:1c915c60-670a-4601-a1e7-49aefb277187
END:VEVENT
END:VCALENDAR
